BEGIN:VCALENDAR
METHOD:PUBLISH
PRODID:-//github.com/rianjs/ical.net//NONSGML ical.net 4.0//EN
VERSION:2.0
X-WR-CALNAME:Lunada Bay PTA
BEGIN:VEVENT
CREATED:20251112T130224
DTEND;VALUE=DATE:20260411
DTSTAMP:20260420T151146Z
DTSTART;VALUE=DATE:20260406
LAST-MODIFIED:20251112T130224
SEQUENCE:0
STATUS:CONFIRMED
SUMMARY:NO SCHOOL - Spring Break
TRANSP:TRANSPARENT
UID:144785@ourschoolpages.com
END:VEVENT
END:VCALENDAR
