BEGIN:VCALENDAR
METHOD:PUBLISH
PRODID:-//github.com/rianjs/ical.net//NONSGML ical.net 4.0//EN
VERSION:2.0
X-WR-CALNAME:Lunada Bay PTA
BEGIN:VEVENT
CREATED:20251112T130331
DTEND:20260417T161500Z
DTSTAMP:20260420T151207Z
DTSTART:20260417T153000Z
LAST-MODIFIED:20251112T130331
SEQUENCE:0
STATUS:CONFIRMED
SUMMARY:Flag Ceremony
TRANSP:TRANSPARENT
UID:144787@ourschoolpages.com
END:VEVENT
END:VCALENDAR
