BEGIN:VCALENDAR
METHOD:PUBLISH
PRODID:-//github.com/rianjs/ical.net//NONSGML ical.net 4.0//EN
VERSION:2.0
X-WR-CALNAME:Lunada Bay PTA
BEGIN:VEVENT
CREATED:20251112T130350
DTEND;VALUE=DATE:20260425
DTSTAMP:20260420T133030Z
DTSTART;VALUE=DATE:20260420
LAST-MODIFIED:20251112T130350
SEQUENCE:0
STATUS:CONFIRMED
SUMMARY:Earth Week
TRANSP:TRANSPARENT
UID:144788@ourschoolpages.com
END:VEVENT
END:VCALENDAR
